
BEGIN:VCALENDAR
VERSION:2.0
PRODID:-//Designtheoretische Betrachtungen - ECPv6.15.20//NONSGML v1.0//EN
CALSCALE:GREGORIAN
METHOD:PUBLISH
X-WR-CALNAME:Designtheoretische Betrachtungen
X-ORIGINAL-URL:https://designtheorie.net
X-WR-CALDESC:Veranstaltungen für Designtheoretische Betrachtungen
REFRESH-INTERVAL;VALUE=DURATION:PT1H
X-Robots-Tag:noindex
X-PUBLISHED-TTL:PT1H
BEGIN:VTIMEZONE
TZID:Europe/Berlin
BEGIN:DAYLIGHT
TZOFFSETFROM:+0100
TZOFFSETTO:+0200
TZNAME:CEST
DTSTART:20180325T010000
END:DAYLIGHT
BEGIN:STANDARD
TZOFFSETFROM:+0200
TZOFFSETTO:+0100
TZNAME:CET
DTSTART:20181028T010000
END:STANDARD
BEGIN:DAYLIGHT
TZOFFSETFROM:+0100
TZOFFSETTO:+0200
TZNAME:CEST
DTSTART:20190331T010000
END:DAYLIGHT
BEGIN:STANDARD
TZOFFSETFROM:+0200
TZOFFSETTO:+0100
TZNAME:CET
DTSTART:20191027T010000
END:STANDARD
BEGIN:DAYLIGHT
TZOFFSETFROM:+0100
TZOFFSETTO:+0200
TZNAME:CEST
DTSTART:20200329T010000
END:DAYLIGHT
BEGIN:STANDARD
TZOFFSETFROM:+0200
TZOFFSETTO:+0100
TZNAME:CET
DTSTART:20201025T010000
END:STANDARD
END:VTIMEZONE
BEGIN:VEVENT
DTSTART;VALUE=DATE:20190214
DTEND;VALUE=DATE:20190215
DTSTAMP:20260419T230128
CREATED:20190110T211010Z
LAST-MODIFIED:20190110T211240Z
UID:3390-1550102400-1550188799@designtheorie.net
SUMMARY:Hinterland of Things – Konferenz
DESCRIPTION:Die HINTERLAND bringt Startups\, die Größen des deutschen Mittelstands und digitale Pioniere zumsammen.\n–\nAt the Hinterland of Things Conference\, the smartest minds in IoT and entrepreneurship come together to rewrite the digital future of the German industry.
URL:https://designtheorie.net/events/hinterland-of-things-konferenz/
LOCATION:Lokschuppen Bielefeld\, Stadtheider Str. 11\, Bielefeld\, 33609\, Deutschland
CATEGORIES:Konferenz
ATTACH;FMTTYPE=image/jpeg:https://designtheorie.net/wp-content/uploads/2017/04/dth-designtheorie_konferenz_1050x700px.jpg
END:VEVENT
BEGIN:VEVENT
DTSTART;TZID=Europe/Berlin:20190214T090000
DTEND;TZID=Europe/Berlin:20190215T180000
DTSTAMP:20260419T230128
CREATED:20180730T172913Z
LAST-MODIFIED:20180730T172913Z
UID:3160-1550134800-1550253600@designtheorie.net
SUMMARY:Touching Innovations – IoT Startup Event
DESCRIPTION:Internet of Things Startup Event \nWährend der 2-tägigen Veranstaltung mit über 60 Referenten\, 40 Ausstellern und 30 Startup-Pitches treffen sich internationale IoT-Innovationstreiber und Experten aus Wirtschaft und Forschung. Tech Startups präsentieren sich und ihre innovativen B2B\, B2C & B2E Lösungen im Rahmen der Ausstellung\, in Vorträgen und in speziellen Aktionsbereichen. \nZu den Event-Teilnehmern zählen neben IoT Startups – die Finanzierung\, Partner oder B2B-Kunden suchen bzw. eine M&A-Transaktion planen – vor allem Corporate Ventures\, Corporate M&A\, Innovation Hub Executives\, Investmentbanken\, Venture Capital Firmen\, Business Angels und Accelerators. \nCorporates\, Investoren\, Accelerators\, Gründern sowie Fachexperten werden weitreichende Möglichkeiten geboten sich auszutauschen\, Produkte auszuprobieren\, Kunden und Lieferanten zu gewinnen\, Partnerschaften zu diskutieren und vieles mehr. \nGründer haben zudem die Gelegenheit in 15 minütigen Pitchdrives (7 Minuten Pitch + Q&A) von sich zu überzeugen und bspw. Business Angels\, Venture Capital\, weitere Partner und natürlich Kunden für sich zu gewinnen. \nInvestoren\, Corporates und Buying Centers ausgewählter Industrien werden Marktbedarfe und Unternehmensausrichtungen der kommenden Jahre mit potenziellen\, künftigen Anbietern und Partnern teilen. \nIn einer breiten Auswahl an Vorträgen und Workshops werden internationale Speaker unterschiedliche Fachthemen behandeln und Sie auf eine FutureTech Wissensreise mitnehmen\, über IoT-Sensorik und Aktorik\, smarte Textilien\, WearableTech\, Künstliche Intelligenz\, Augmented & Virtuelle Realität\, eSports\, sowie digitales Marketing\, Cryptopayments\, Patente & Urheberrechte\, Gründungen von Labs\, Venture Building\, PropTech\, Bewertungsmethoden von Tech-Startups\, Exits und vielen weiteren Themen. \n– \nEnglish version: \nThroughout the 2-day event with more than 60 speakers\, 40 exhibitors and 30 startup pitches\, international IoT innovation drivers and experts from industry and research will come together. Tech startups present themselves and their innovative B2B\, B2C and B2E solutions at the exhibition\, in presentations and in special areas of action. \nIn addition to IoT startups – looking for funding\, partners or B2B customers or planning an M&A transaction – event participants primarily include corporate ventures\, corporate M&A\, innovation hub executives\, investment banks\, venture capital firms\, business angels and accelerators. \nCorporates\, investors\, accelerators\, founders and SMEs are offered extensive opportunities to exchange ideas\, try out products\, win customers and suppliers\, discuss partnerships and much more. \nFounders also have the opportunity to present themselves in 15 minute pitchdrives (7 minutes pitch + Q&A) and to win business angels\, venture capital\, other partners and of course customers. \nInvestors\, corporates and buying centers of selected industries will share market demands and business directions of the coming years with potential future suppliers and partners. \nIn a wide range of presentations and workshops\, international speakers will cover various topics and take you on a FutureTech journey about IoT sensors and actuators\, smart textiles\, wearable technology\, artificial intelligence & machine learning\, augmented & virtual reality\, eSports\, as well as digital
URL:https://designtheorie.net/events/touching-innovations-iot-startup-event/
LOCATION:Deutsche Telekom Hauptstadtrepräsentanz\, Französische Strasse 33 a-c\, Berlin\, 10117\, Deutschland
CATEGORIES:Event
ATTACH;FMTTYPE=image/jpeg:https://designtheorie.net/wp-content/uploads/2018/07/dth-designtheorie_kolloquium_1050x700px.jpg
END:VEVENT
END:VCALENDAR