
BEGIN:VCALENDAR
VERSION:2.0
PRODID:-//Designtheoretische Betrachtungen - ECPv6.15.20//NONSGML v1.0//EN
CALSCALE:GREGORIAN
METHOD:PUBLISH
X-WR-CALNAME:Designtheoretische Betrachtungen
X-ORIGINAL-URL:https://designtheorie.net
X-WR-CALDESC:Veranstaltungen für Designtheoretische Betrachtungen
REFRESH-INTERVAL;VALUE=DURATION:PT1H
X-Robots-Tag:noindex
X-PUBLISHED-TTL:PT1H
BEGIN:VTIMEZONE
TZID:Europe/Berlin
BEGIN:DAYLIGHT
TZOFFSETFROM:+0100
TZOFFSETTO:+0200
TZNAME:CEST
DTSTART:20180325T010000
END:DAYLIGHT
BEGIN:STANDARD
TZOFFSETFROM:+0200
TZOFFSETTO:+0100
TZNAME:CET
DTSTART:20181028T010000
END:STANDARD
BEGIN:DAYLIGHT
TZOFFSETFROM:+0100
TZOFFSETTO:+0200
TZNAME:CEST
DTSTART:20190331T010000
END:DAYLIGHT
BEGIN:STANDARD
TZOFFSETFROM:+0200
TZOFFSETTO:+0100
TZNAME:CET
DTSTART:20191027T010000
END:STANDARD
BEGIN:DAYLIGHT
TZOFFSETFROM:+0100
TZOFFSETTO:+0200
TZNAME:CEST
DTSTART:20200329T010000
END:DAYLIGHT
BEGIN:STANDARD
TZOFFSETFROM:+0200
TZOFFSETTO:+0100
TZNAME:CET
DTSTART:20201025T010000
END:STANDARD
END:VTIMEZONE
BEGIN:VEVENT
DTSTART;VALUE=DATE:20190306
DTEND;VALUE=DATE:20190309
DTSTAMP:20260419T211702
CREATED:20190123T190946Z
LAST-MODIFIED:20190123T190946Z
UID:3421-1551830400-1552089599@designtheorie.net
SUMMARY:Service Design in Government Conference
DESCRIPTION:The original international community event for anyone involved in designing and commissioning public services. \nReturning for the sixth year\, Service Design in Government is a hands-on\, practical conference that draws an international audience of top Service Designers and world leading speakers. \nThe participants enjoy meeting and learning from their peers and leaders in the industry\, leaving with new ideas and skills to improve public services\, an increased professional network\, and inspiration gained from many useful conversations and interactions.
URL:https://designtheorie.net/events/service-design-in-government-conference/
LOCATION:John McIntyre Conference Centre\,\, 18 Holyrood Park Road\, Edinburgh\, Scotland\, EH16 5AY\, Großbritannien (Vereinigtes Königreich)
CATEGORIES:Konferenz
ATTACH;FMTTYPE=image/jpeg:https://designtheorie.net/wp-content/uploads/2017/04/dth-designtheorie_konferenz_1050x700px.jpg
ORGANIZER;CN="Software Acumen":MAILTO:info@software-acumen.com
END:VEVENT
END:VCALENDAR