
BEGIN:VCALENDAR
VERSION:2.0
PRODID:-//Designtheoretische Betrachtungen - ECPv6.15.20//NONSGML v1.0//EN
CALSCALE:GREGORIAN
METHOD:PUBLISH
X-WR-CALNAME:Designtheoretische Betrachtungen
X-ORIGINAL-URL:https://designtheorie.net
X-WR-CALDESC:Veranstaltungen für Designtheoretische Betrachtungen
REFRESH-INTERVAL;VALUE=DURATION:PT1H
X-Robots-Tag:noindex
X-PUBLISHED-TTL:PT1H
BEGIN:VTIMEZONE
TZID:Europe/Berlin
BEGIN:DAYLIGHT
TZOFFSETFROM:+0100
TZOFFSETTO:+0200
TZNAME:CEST
DTSTART:20180325T010000
END:DAYLIGHT
BEGIN:STANDARD
TZOFFSETFROM:+0200
TZOFFSETTO:+0100
TZNAME:CET
DTSTART:20181028T010000
END:STANDARD
BEGIN:DAYLIGHT
TZOFFSETFROM:+0100
TZOFFSETTO:+0200
TZNAME:CEST
DTSTART:20190331T010000
END:DAYLIGHT
BEGIN:STANDARD
TZOFFSETFROM:+0200
TZOFFSETTO:+0100
TZNAME:CET
DTSTART:20191027T010000
END:STANDARD
BEGIN:DAYLIGHT
TZOFFSETFROM:+0100
TZOFFSETTO:+0200
TZNAME:CEST
DTSTART:20200329T010000
END:DAYLIGHT
BEGIN:STANDARD
TZOFFSETFROM:+0200
TZOFFSETTO:+0100
TZNAME:CET
DTSTART:20201025T010000
END:STANDARD
END:VTIMEZONE
BEGIN:VEVENT
DTSTART;VALUE=DATE:20190410
DTEND;VALUE=DATE:20190413
DTSTAMP:20260419T212258
CREATED:20180708T111832Z
LAST-MODIFIED:20180708T113240Z
UID:3118-1554854400-1555113599@designtheorie.net
SUMMARY:XIV. Internationales Bauhaus-Kolloquium
DESCRIPTION:Vom 10. bis zum 12. April 2019 findet das XIV. Internationales Bauhaus-Kolloquium in Weimar statt. \n100 Jahre nach Gründung des Bauhauses 1919 wird sich das 14. Inter­nationale Bauhaus-Kolloquium vertiefend mit der Geschichte des Bauhauses an dessen Wirkungs­stätten Weimar\, Dessau und Berlin sowie seiner inter­nationalen Rezeption und Migration auseinandersetzen. Im Jubiläums­jahr versammelt das Bauhaus-Kolloquium eine inter­disziplinäre Gemein­schaft von Forschenden und hält kritische Rück­schau auf die Anfänge und den historischen Kontext des Jahres 1919. Es beleuchtet die gesell­schafts­politische Einbettung des Bauhauses in die Global­geschichte des 20. Jahrhunderts und fragt nach der Etablierung einer „Bauhaus-Architektur“ als Stil­kanon in der Architektur­historiographie der Nachkriegs­zeit. Unausweichlich spiegelt die Geschichte des Bauhauses dabei auch die Fragen der gestaltenden Disziplinen der Gegen­wart zurück. Inter­nationale Architekt­Innen\, Künstler­Innen\, Historiker­Innen und Gesell­schafts­wissenschaftler­Innen werden das historische Bauhaus mit der Gegen­wart konfrontieren. \nDie Konferenz steht allen Fachleuten aus Forschung und Praxis sowie Studierenden und allen Interessierten offen. Weitere Details zum Programm werden im Oktober 2018 veröffentlich. Die Anmeldung sowie der Kauf von Tickets wird ab Februar 2019 möglich sein. Die Konferenzsprachen sind Deutsch und Englisch. Das Kolloquium hat vier Sektionen.
URL:https://designtheorie.net/events/xiv-internationales-bauhaus-kolloquium/
LOCATION:Bauhaus-Universität Weimar\, Geschwister-Scholl-Str. 8\, Weimar\, 99423\, Deutschland
CATEGORIES:Kolloquium
ATTACH;FMTTYPE=image/jpeg:https://designtheorie.net/wp-content/uploads/2018/07/dth-designtheorie_kolloquium_1050x700px.jpg
END:VEVENT
BEGIN:VEVENT
DTSTART;VALUE=DATE:20190411
DTEND;VALUE=DATE:20190415
DTSTAMP:20260419T212258
CREATED:20190201T202342Z
LAST-MODIFIED:20190201T202342Z
UID:3455-1554940800-1555286399@designtheorie.net
SUMMARY:BY DESIGN OR BY DISASTER conference 2019
DESCRIPTION:Focus 2019:\nMake Transformation Tangible!\nDesigners are making things tangible\, literally and metaphorically. This is of particular importance in times\, where on the one hand complexity often seems to be overwhelming\, while on the other hand (fake) oversimplification\, anxiety and superficiality in hyper-accelerated media are threatening democracy. It is a challenge for designers to create visualizations\, physicalizations and environments that reduce complexity without trivializing things but empower people to confront complexity in creative ways – in analogue spaces\, digital spheres and their overlaps. \nEco-social designers want to contribute to a much-needed transformation of the relations among humans and between humans and nature\, in order to move towards more sustainable\, non-alienated\, resilient\, just and equitable futures. This embraces a myriad of changes of producing\, distributing and consuming\, of living and working together\, of societies\, economies and cultures. As a whole\, this can be called the big eco-social transformation. \nDesigners can drive\, enable\, inspire and support such progressive eco-social changes. They can co-create concrete utopias of inclusive\, open and sustainable societies\, as contemporary practices and as tangible future visions. They can (co-)design environments\, where people can imagine\, experience and experiment such futures. This is important in times where negative narrations create an atmosphere of fear\, hopelessness and powerlessness\, triggered by apocalyptic fiction\, dystopian science fiction\, terrible news all the time\, and by serious reports and publications on multiple crises and disasters to come. But the disastrous developments should call for action\, not resignation. There is a need for positive future trajectories that motivate\, reinstall hope and the ability to “do something” now. \n– \nThis series of conferences co-develops with the Master in Eco-Social Design at the Faculty of Design and Art of the Free University of Bozen-Bolzano. The conference offers a mix of inspiring presentations\, talks\, reflections\, dialogical formats\, hands-on workshops\, performances and excursions in a convivial atmosphere with good food\, music\, sun\, mountains\, … It is connected to the festival “hier und da – gut leben im ländlichen Raum / il buon vivere nelle zone periferiche” in Obervinschgau / Alta Val Venosta and move there for the shared program on Saturday and Sunday.
URL:https://designtheorie.net/events/by-design-or-by-disaster-conference-2019/
LOCATION:Free University of Bozen\, Piazza Università 1\, Bozen/Bolzano\, 39100\, Italien
CATEGORIES:Konferenz
ATTACH;FMTTYPE=image/jpeg:https://designtheorie.net/wp-content/uploads/2017/04/dth-designtheorie_konferenz_1050x700px.jpg
END:VEVENT
END:VCALENDAR