
BEGIN:VCALENDAR
VERSION:2.0
PRODID:-//Designtheoretische Betrachtungen - ECPv6.15.20//NONSGML v1.0//EN
CALSCALE:GREGORIAN
METHOD:PUBLISH
X-ORIGINAL-URL:https://designtheorie.net
X-WR-CALDESC:Veranstaltungen für Designtheoretische Betrachtungen
REFRESH-INTERVAL;VALUE=DURATION:PT1H
X-Robots-Tag:noindex
X-PUBLISHED-TTL:PT1H
BEGIN:VTIMEZONE
TZID:Europe/Berlin
BEGIN:DAYLIGHT
TZOFFSETFROM:+0100
TZOFFSETTO:+0200
TZNAME:CEST
DTSTART:20180325T010000
END:DAYLIGHT
BEGIN:STANDARD
TZOFFSETFROM:+0200
TZOFFSETTO:+0100
TZNAME:CET
DTSTART:20181028T010000
END:STANDARD
BEGIN:DAYLIGHT
TZOFFSETFROM:+0100
TZOFFSETTO:+0200
TZNAME:CEST
DTSTART:20190331T010000
END:DAYLIGHT
BEGIN:STANDARD
TZOFFSETFROM:+0200
TZOFFSETTO:+0100
TZNAME:CET
DTSTART:20191027T010000
END:STANDARD
BEGIN:DAYLIGHT
TZOFFSETFROM:+0100
TZOFFSETTO:+0200
TZNAME:CEST
DTSTART:20200329T010000
END:DAYLIGHT
BEGIN:STANDARD
TZOFFSETFROM:+0200
TZOFFSETTO:+0100
TZNAME:CET
DTSTART:20201025T010000
END:STANDARD
END:VTIMEZONE
BEGIN:VEVENT
DTSTART;VALUE=DATE:20190614
DTEND;VALUE=DATE:20190616
DTSTAMP:20260420T004838
CREATED:20190301T100612Z
LAST-MODIFIED:20190301T100712Z
UID:3530-1560470400-1560643199@designtheorie.net
SUMMARY:Mind the Progress – Kongress zu Kreativität und Digitalisierung
DESCRIPTION:»Mind the Progress« – der Kongress zu Kreativität und Digitalisierung – findet vom 14.06. – 15.06.2019 im Oberhafenquartier Hamburg statt. \n \nMind the Progress geht in die zweite Runde: Im kommenden Jahr widmet sich der Kongress erneut dem vielschichtigen Verhältnis von Kreativität und Digitalisierung – 2019 mit besonderem Fokus auf die zunehmende Komplexität unseres Denkens und Schaffens. \nWachsende Datenmengen\, selbstlernende Algorithmen\, Technologien\, die immer selbstverständlicher in unseren Alltag hineinwirken – die digitale Transformation schafft Transparenz und Unübersichtlichkeit zugleich. Unsere Wahrnehmung von Gesellschaft\, Politik und Wirtschaft wird zunehmend komplex. Wie fügt sich unsere Kreativität\, unser Denken und Handeln in diese Entwicklung? Wie können wir Komplexität annehmen und ihr zugleich mit Gestaltungsanspruch begegnen? Was gibt Orientierung? \nMind the Progress bietet inspirierende Denkanstöße\, ernsthafte Auseinandersetzung sowie Austausch und Vernetzung auf Augenhöhe. Interdisziplinärer Input mischt sich mit interaktiven\, praktischen Formaten. \nEin Kongress für alle\, die den digitalen Wandel mitdenken und -gestalten möchten\, die sich nicht vor großen Fragen und Visionen scheuen\, die das Thema Komplexität auf ihre Agenda setzen!
URL:https://designtheorie.net/events/mind-the-progress-kongress-zu-kreativitaet-und-digitalisierung/
LOCATION:Oberhafenquartier\, Stockmeyerstraße 41-43\, Hamburg\, 20457\, Deutschland
CATEGORIES:Kongress
ATTACH;FMTTYPE=image/jpeg:https://designtheorie.net/wp-content/uploads/2017/07/dth-designtheorie_kongress_1050x700px.jpg
ORGANIZER;CN="Hamburg Kreativ Gesellschaft":MAILTO:info@kreativgesellschaft.org
END:VEVENT
END:VCALENDAR