
BEGIN:VCALENDAR
VERSION:2.0
PRODID:-//Designtheoretische Betrachtungen - ECPv6.15.20//NONSGML v1.0//EN
CALSCALE:GREGORIAN
METHOD:PUBLISH
X-ORIGINAL-URL:https://designtheorie.net
X-WR-CALDESC:Veranstaltungen für Designtheoretische Betrachtungen
REFRESH-INTERVAL;VALUE=DURATION:PT1H
X-Robots-Tag:noindex
X-PUBLISHED-TTL:PT1H
BEGIN:VTIMEZONE
TZID:Europe/Berlin
BEGIN:DAYLIGHT
TZOFFSETFROM:+0100
TZOFFSETTO:+0200
TZNAME:CEST
DTSTART:20180325T010000
END:DAYLIGHT
BEGIN:STANDARD
TZOFFSETFROM:+0200
TZOFFSETTO:+0100
TZNAME:CET
DTSTART:20181028T010000
END:STANDARD
BEGIN:DAYLIGHT
TZOFFSETFROM:+0100
TZOFFSETTO:+0200
TZNAME:CEST
DTSTART:20190331T010000
END:DAYLIGHT
BEGIN:STANDARD
TZOFFSETFROM:+0200
TZOFFSETTO:+0100
TZNAME:CET
DTSTART:20191027T010000
END:STANDARD
BEGIN:DAYLIGHT
TZOFFSETFROM:+0100
TZOFFSETTO:+0200
TZNAME:CEST
DTSTART:20200329T010000
END:DAYLIGHT
BEGIN:STANDARD
TZOFFSETFROM:+0200
TZOFFSETTO:+0100
TZNAME:CET
DTSTART:20201025T010000
END:STANDARD
END:VTIMEZONE
BEGIN:VEVENT
DTSTART;VALUE=DATE:20190703
DTEND;VALUE=DATE:20190706
DTSTAMP:20260420T004742
CREATED:20190214T092124Z
LAST-MODIFIED:20190214T092124Z
UID:3493-1562112000-1562371199@designtheorie.net
SUMMARY:xCoAx 2019
DESCRIPTION:The 7th Conference on Computation\, Communication\, Aesthetics & X »xCoAx« takes place 3–5 July 2019 at the Politecnico di Milano\, Milan\, Italy. \n \nxCoAx is an exploration of the intersection where computational tools and media meet art and culture\, in the form of a multi-disciplinary enquiry on aesthetics\, computation\, communication and the elusive X factor that connects them all. \nxCoAx has been an occasion for international audiences to meet and exchange ideas\, in search of interdisciplinary synergies among computer scientists\, artists\, media practitioners\, and theoreticians at the threshold of digital arts and culture. \nThe proceedings of xCoAx are archived at proceedings.xcoax.org. \nThe focus of xCoAx is on the unpredictable overlaps between the chaos and freedom of creativity and the rules and determinism of algorithms\, between human nature and machine technology\, with the aim to evolve towards new directions in aesthetics. \nIn 2019 xCoAx will take place in Milan\, in Italy.
URL:https://designtheorie.net/events/xcoax-2019/
LOCATION:Politecnico di Milano – Architecture faculty\, Via Andrea Maria Ampère 2\, Milano\, 20133\, Italien
CATEGORIES:Konferenz
ATTACH;FMTTYPE=image/jpeg:https://designtheorie.net/wp-content/uploads/2017/04/dth-designtheorie_konferenz_1050x700px.jpg
END:VEVENT
END:VCALENDAR