
BEGIN:VCALENDAR
VERSION:2.0
PRODID:-//Designtheoretische Betrachtungen - ECPv6.15.20//NONSGML v1.0//EN
CALSCALE:GREGORIAN
METHOD:PUBLISH
X-WR-CALNAME:Designtheoretische Betrachtungen
X-ORIGINAL-URL:https://designtheorie.net
X-WR-CALDESC:Veranstaltungen für Designtheoretische Betrachtungen
REFRESH-INTERVAL;VALUE=DURATION:PT1H
X-Robots-Tag:noindex
X-PUBLISHED-TTL:PT1H
BEGIN:VTIMEZONE
TZID:Europe/Berlin
BEGIN:DAYLIGHT
TZOFFSETFROM:+0100
TZOFFSETTO:+0200
TZNAME:CEST
DTSTART:20180325T010000
END:DAYLIGHT
BEGIN:STANDARD
TZOFFSETFROM:+0200
TZOFFSETTO:+0100
TZNAME:CET
DTSTART:20181028T010000
END:STANDARD
BEGIN:DAYLIGHT
TZOFFSETFROM:+0100
TZOFFSETTO:+0200
TZNAME:CEST
DTSTART:20190331T010000
END:DAYLIGHT
BEGIN:STANDARD
TZOFFSETFROM:+0200
TZOFFSETTO:+0100
TZNAME:CET
DTSTART:20191027T010000
END:STANDARD
BEGIN:DAYLIGHT
TZOFFSETFROM:+0100
TZOFFSETTO:+0200
TZNAME:CEST
DTSTART:20200329T010000
END:DAYLIGHT
BEGIN:STANDARD
TZOFFSETFROM:+0200
TZOFFSETTO:+0100
TZNAME:CET
DTSTART:20201025T010000
END:STANDARD
END:VTIMEZONE
BEGIN:VEVENT
DTSTART;VALUE=DATE:20190918
DTEND;VALUE=DATE:20190919
DTSTAMP:20260420T034508
CREATED:20190611T095856Z
LAST-MODIFIED:20190611T100055Z
UID:3756-1568764800-1568851199@designtheorie.net
SUMMARY:ZEIT KONFERENZ Künstliche Intelligenz
DESCRIPTION:Hype meets Reality\nKaum ein Buzzword elektrisiert so stark wie »Künstliche Intelligenz«. Bereits zum vierten Mal bietet die ZEIT KONFERENZ eine herausragende Plattform\, um neben der gesellschaftlichen Dimension auch das dynamische Anwendungsspektrum Künstlicher Intelligenz zu diskutieren. Vorreiter aus Wirtschaft\, Wissenschaft und Forschung versammeln sich in inspirierender Atmosphäre\, um interdisziplinär die Chancen und Grenzen Künstlicher Intelligenz zu diskutieren.
URL:https://designtheorie.net/events/zeit-konferenz-kuenstliche-intelligenz/
LOCATION:Futurium\, Alexanderufer 2\, Berlin\, 10117\, Deutschland
CATEGORIES:Konferenz
ATTACH;FMTTYPE=image/jpeg:https://designtheorie.net/wp-content/uploads/2017/04/dth-designtheorie_konferenz_1050x700px.jpg
END:VEVENT
END:VCALENDAR