
BEGIN:VCALENDAR
VERSION:2.0
PRODID:-//Designtheoretische Betrachtungen - ECPv6.15.20//NONSGML v1.0//EN
CALSCALE:GREGORIAN
METHOD:PUBLISH
X-ORIGINAL-URL:https://designtheorie.net
X-WR-CALDESC:Veranstaltungen für Designtheoretische Betrachtungen
REFRESH-INTERVAL;VALUE=DURATION:PT1H
X-Robots-Tag:noindex
X-PUBLISHED-TTL:PT1H
BEGIN:VTIMEZONE
TZID:Europe/Berlin
BEGIN:DAYLIGHT
TZOFFSETFROM:+0100
TZOFFSETTO:+0200
TZNAME:CEST
DTSTART:20180325T010000
END:DAYLIGHT
BEGIN:STANDARD
TZOFFSETFROM:+0200
TZOFFSETTO:+0100
TZNAME:CET
DTSTART:20181028T010000
END:STANDARD
BEGIN:DAYLIGHT
TZOFFSETFROM:+0100
TZOFFSETTO:+0200
TZNAME:CEST
DTSTART:20190331T010000
END:DAYLIGHT
BEGIN:STANDARD
TZOFFSETFROM:+0200
TZOFFSETTO:+0100
TZNAME:CET
DTSTART:20191027T010000
END:STANDARD
BEGIN:DAYLIGHT
TZOFFSETFROM:+0100
TZOFFSETTO:+0200
TZNAME:CEST
DTSTART:20200329T010000
END:DAYLIGHT
BEGIN:STANDARD
TZOFFSETFROM:+0200
TZOFFSETTO:+0100
TZNAME:CET
DTSTART:20201025T010000
END:STANDARD
END:VTIMEZONE
BEGIN:VEVENT
DTSTART;VALUE=DATE:20191009
DTEND;VALUE=DATE:20191012
DTSTAMP:20260420T050921
CREATED:20190710T092542Z
LAST-MODIFIED:20190710T092542Z
UID:3809-1570579200-1570838399@designtheorie.net
SUMMARY:Anticipation 2019 Conference
DESCRIPTION:From 9th to 11th October 2019 the 3rd International Conference on Anticipation will be held at the Oslo School of Architecture and Design in Norway (AHO). The conference will provide an interdisciplinary meeting ground in which researchers\, scholars and practitioners who are seeking to understand anticipation and anticipatory practices can come together to deepen their understanding and create productive new connections. \nAnticipation 2019 is a unique\, radically interdisciplinary forum for exploring how ideas of the future inform action in the present. It brings together researchers\, policy makers\, scholars and practitioners to push forward thinking on issues ranging from modelling\, temporality and the present to the design\, ethics and power of the future. This conference includes attention to design amongst other domains.
URL:https://designtheorie.net/events/anticipation-2019-conference/
LOCATION:Oslo School of Architecture and Design\, Maridalsveien 29\, Oslo\, 0175\, Norwegen
CATEGORIES:Konferenz
ATTACH;FMTTYPE=image/jpeg:https://designtheorie.net/wp-content/uploads/2017/04/dth-designtheorie_konferenz_1050x700px.jpg
END:VEVENT
BEGIN:VEVENT
DTSTART;TZID=Europe/Berlin:20191010T090000
DTEND;TZID=Europe/Berlin:20191011T180000
DTSTAMP:20260420T050921
CREATED:20190818T170157Z
LAST-MODIFIED:20190818T170157Z
UID:3873-1570698000-1570816800@designtheorie.net
SUMMARY:THE DESIGN THINKING CONFERENCE
DESCRIPTION:THEME\n“Through Different Eyes. We live in the same world\, but not in the same reality.” \nWe’ve chosen the theme “Through Different Eyes” focusing on the importance of empathy and how we experience reality in different ways. This is a very topical theme\, connecting to the discussion on our polarizing societies\, and it also allows us to explore empathy\, a key quality of the Design Thinking mindset. We have invited an amazing group of people\, our members of the cast\, to help us look for the boundaries of empathy and how they overcame them. \nThe exciting new format of the conference\, inspired by theatre\, will help both speakers and audiences be engaged and surprised. In the true spirit of design thinking we will question everything\, so prepare to be challenged. \nMISSION\nWe believe that new approaches are emerging because our world needs new solutions to solve the problems we are facing. Design Thinking\, and other human centric approaches\, is emerging as a result. It is a symptom\, not an end. \nThe mission of the Design Thinking Conference is to keep the conversation on Design Thinking moving forward and push the boundaries as far as we possibly can. \nDesign Thinking Conference is powered by the DesignThinkers Academy Amsterdam. DesignThinkers Academy is one of the leading design driven innovation agencies helping organizations around the world making the transition from being strictly product orientated and sales driven\, towards being service oriented and human centered. \nTHE DESIGN THINKING CONFERENCE\nThe Design Thinking Conference is an interactive and high-energy gathering of experienced design thinking practitioners from around the world. We offer a platform to share knowledge and further your understanding of what is driving the changes we all experience in today’s world. \nThe Design Thinking Conference is not a traditional conference\, but highly inspired by theatre. We have developed an experimental and exciting new format to challenge both the speakers (our actors) and the audience (supporting actors). \nWith this conference we aim to shake you up and enrich you with new insights\, not just leave you comfortable and confirmed in your beliefs. No preaching to the converted\, but experimenting\, experiencing\, having fun and being surprised. \nFOR?\nFor Design Thinking professionals who practice what they preach in their own organizations or with other organizations. \nWHY?\nBecause It is time to take the next step and truly deep dive into Design Thinking. \nWHAT?\nDeep diving Design Thinking means critically looking at it\, constructively discussing it and surprising ourselves with fresh perspectives.\nIt means to reframe and be sure about the problem we are solving.\nIt means to feel and discuss how truly empathic we can be.\nIt means to experiment and to test out new perspectives.\nIt means to envision and discover how far we can bring Design Thinking. \nHOW?\nInstead of definitions\, tools and showcases\, we will focus on inspirations to question oneself\, debates to get further\, perspectives outside our comfort zones\, all in togetherness and positivism\, and with a bit of lightness.
URL:https://designtheorie.net/events/the-design-thinking-conference/
LOCATION:TOBACCO THEATER\, Nes 75-87\, Amsterdam\, 1012\, Niederlande
CATEGORIES:Konferenz
ATTACH;FMTTYPE=image/jpeg:https://designtheorie.net/wp-content/uploads/2017/04/dth-designtheorie_konferenz_1050x700px.jpg
ORGANIZER;CN="DesignThinkers B.V.":MAILTO:info@designthinkingconference.com
END:VEVENT
END:VCALENDAR