
BEGIN:VCALENDAR
VERSION:2.0
PRODID:-//Designtheoretische Betrachtungen - ECPv6.15.20//NONSGML v1.0//EN
CALSCALE:GREGORIAN
METHOD:PUBLISH
X-ORIGINAL-URL:https://designtheorie.net
X-WR-CALDESC:Veranstaltungen für Designtheoretische Betrachtungen
REFRESH-INTERVAL;VALUE=DURATION:PT1H
X-Robots-Tag:noindex
X-PUBLISHED-TTL:PT1H
BEGIN:VTIMEZONE
TZID:Europe/Berlin
BEGIN:DAYLIGHT
TZOFFSETFROM:+0100
TZOFFSETTO:+0200
TZNAME:CEST
DTSTART:20180325T010000
END:DAYLIGHT
BEGIN:STANDARD
TZOFFSETFROM:+0200
TZOFFSETTO:+0100
TZNAME:CET
DTSTART:20181028T010000
END:STANDARD
BEGIN:DAYLIGHT
TZOFFSETFROM:+0100
TZOFFSETTO:+0200
TZNAME:CEST
DTSTART:20190331T010000
END:DAYLIGHT
BEGIN:STANDARD
TZOFFSETFROM:+0200
TZOFFSETTO:+0100
TZNAME:CET
DTSTART:20191027T010000
END:STANDARD
BEGIN:DAYLIGHT
TZOFFSETFROM:+0100
TZOFFSETTO:+0200
TZNAME:CEST
DTSTART:20200329T010000
END:DAYLIGHT
BEGIN:STANDARD
TZOFFSETFROM:+0200
TZOFFSETTO:+0100
TZNAME:CET
DTSTART:20201025T010000
END:STANDARD
END:VTIMEZONE
BEGIN:VEVENT
DTSTART;TZID=Europe/Berlin:20191109T120000
DTEND;TZID=Europe/Berlin:20191109T193000
DTSTAMP:20260420T064620
CREATED:20190912T171459Z
LAST-MODIFIED:20190912T171459Z
UID:3889-1573300800-1573327800@designtheorie.net
SUMMARY:FYI: Informationsdesign Konferenz
DESCRIPTION:Hinter der Abkürzung »FYI:« versteckt sich nicht nur »for your information«\, sondern auch eine Konferenz für Informationsdesign\, die am 9. November 2019 zum zweiten Mal über die Bühne gehen wird. \nDie FYI: ist eine Konferenz für Informationsdesign in Wien\, die sich mit Signaletik\, Datenvisualisierung\, UX-Design\, illustrativer sowie journalistischer Informationsgrafik auseinandersetzt. \nZu der FYI-Konferenz werden rund 200 Teilnehmer_innen erwartet. Die Konferenz wird diesmal – dem Konzept folgend\, dass ungewohnte Orte die Kreativität fördern – im Ankersaal der Wiener Brotfabrik stattfinden. Dort wartet ein Mix aus Fachvorträgen und Kurzimpulsen\, eine Experience Area zum Ausprobieren und Schmökern und eine kreativ-verrückte Konferenzorganisation auf die Besucher_innen. 9 Profis und 5 Absolvent_innen sind Vortragende. Mitmachen\, miteinander reden\, sich weiterbilden\, den Horizont erweitern\, all das wird von den Infodesigner_innen – und denen\, die es noch werden wollen – erwartet. \nSpannende und informative Talks aus den unterschiedlichsten Infodesignbereichen\, eine anregende Experience Area\, ausreichend Zeit zum Austausch und eine After-Show-Party machen die FYI: zur Konferenz „for your information“.
URL:https://designtheorie.net/events/fyi-informationsdesign-konferenz/
LOCATION:Brotfabrik Wien\, Absberggasse 27\, Wien\, 1100\, Österreich
CATEGORIES:Konferenz
ATTACH;FMTTYPE=image/jpeg:https://designtheorie.net/wp-content/uploads/2017/04/dth-designtheorie_konferenz_1050x700px.jpg
END:VEVENT
END:VCALENDAR