
BEGIN:VCALENDAR
VERSION:2.0
PRODID:-//Designtheoretische Betrachtungen - ECPv6.15.20//NONSGML v1.0//EN
CALSCALE:GREGORIAN
METHOD:PUBLISH
X-ORIGINAL-URL:https://designtheorie.net
X-WR-CALDESC:Veranstaltungen für Designtheoretische Betrachtungen
REFRESH-INTERVAL;VALUE=DURATION:PT1H
X-Robots-Tag:noindex
X-PUBLISHED-TTL:PT1H
BEGIN:VTIMEZONE
TZID:Europe/Berlin
BEGIN:DAYLIGHT
TZOFFSETFROM:+0100
TZOFFSETTO:+0200
TZNAME:CEST
DTSTART:20180325T010000
END:DAYLIGHT
BEGIN:STANDARD
TZOFFSETFROM:+0200
TZOFFSETTO:+0100
TZNAME:CET
DTSTART:20181028T010000
END:STANDARD
BEGIN:DAYLIGHT
TZOFFSETFROM:+0100
TZOFFSETTO:+0200
TZNAME:CEST
DTSTART:20190331T010000
END:DAYLIGHT
BEGIN:STANDARD
TZOFFSETFROM:+0200
TZOFFSETTO:+0100
TZNAME:CET
DTSTART:20191027T010000
END:STANDARD
BEGIN:DAYLIGHT
TZOFFSETFROM:+0100
TZOFFSETTO:+0200
TZNAME:CEST
DTSTART:20200329T010000
END:DAYLIGHT
BEGIN:STANDARD
TZOFFSETFROM:+0200
TZOFFSETTO:+0100
TZNAME:CET
DTSTART:20201025T010000
END:STANDARD
END:VTIMEZONE
BEGIN:VEVENT
DTSTART;VALUE=DATE:20191110
DTEND;VALUE=DATE:20191113
DTSTAMP:20260420T064429
CREATED:20190604T153309Z
LAST-MODIFIED:20190604T153309Z
UID:3713-1573344000-1573603199@designtheorie.net
SUMMARY:Zip-Scene Conference on Analogue and Digital Immersive Spaces
DESCRIPTION:The second Zip-Scene Conference on Analogue and Digital Immersive Spaces takes place 10-12 November\, 2019 at Moholy-Nagy University of Art and Design\, Budapest\, Hungary. \nInteractive Narratives – the Future of Storytelling and Immersion in mixed reality mediums and performing arts \nNew digital tools provide novel opportunities for interactive digital narratives (IDN) in mixed reality environments\, performance art and analogue immersive spaces. But does this mean that we can tell existing stories in a better way in these environments? Or should we change our way of thinking about how we perceive our world in order to create more comprehensive narrative experiences? In a recent keynote (ICIDS 2018 conference) Janet H. Murray – author of the groundbreaking volume Hamlet on Holodeck – the Future of Narrative in Cyberspace (1997/2016)\, reminds us that “a kaleidoscopic habit of thinking” can help us “envision a more integrated transformational future” and “open up the possibility of expanding our understanding of the world and our cognitive capacity” (Murray\, 2018:17). To better grasp the complexity of the world\, it is important to enhance emerging artistic practices in order to create opportunities for critical reflection while acknowledging the changed relationship between creators and audiences turned participants/prosumers/experiencers. \nThis conference aims to investigate whether XR/extended reality (VR/AR/MR) works will acquire a status comparable to film\, performing arts and video games in the near future. On this basis\, we are looking forward to papers that address narrative experiences enabled by XR and especially VR technologies. \nThe conference addresses scientific researchers\, game professionals\, programmers\, artists\, scholars and professionals from the field of performing arts\, game studies\, interactive storytellers\, experience designers\, narrative designers\, VR-professionals and philosophers concerned with the conference topics. The conference aims to bring together emerging scholars\, professionals and creators in order to create a joint platform which would later help individuals to understand and to develop these types of productions.
URL:https://designtheorie.net/events/zip-scene-conference-on-analogue-and-digital-immersive-spaces/
LOCATION:Moholy-Nagy University of Art and Design\, Zugligeti út 9\, Budapest\, 1121\, Ungarn
CATEGORIES:Konferenz
ATTACH;FMTTYPE=image/jpeg:https://designtheorie.net/wp-content/uploads/2017/04/dth-designtheorie_konferenz_1050x700px.jpg
END:VEVENT
END:VCALENDAR