
BEGIN:VCALENDAR
VERSION:2.0
PRODID:-//Designtheoretische Betrachtungen - ECPv6.15.20//NONSGML v1.0//EN
CALSCALE:GREGORIAN
METHOD:PUBLISH
X-WR-CALNAME:Designtheoretische Betrachtungen
X-ORIGINAL-URL:https://designtheorie.net
X-WR-CALDESC:Veranstaltungen für Designtheoretische Betrachtungen
REFRESH-INTERVAL;VALUE=DURATION:PT1H
X-Robots-Tag:noindex
X-PUBLISHED-TTL:PT1H
BEGIN:VTIMEZONE
TZID:Europe/Berlin
BEGIN:DAYLIGHT
TZOFFSETFROM:+0100
TZOFFSETTO:+0200
TZNAME:CEST
DTSTART:20180325T010000
END:DAYLIGHT
BEGIN:STANDARD
TZOFFSETFROM:+0200
TZOFFSETTO:+0100
TZNAME:CET
DTSTART:20181028T010000
END:STANDARD
BEGIN:DAYLIGHT
TZOFFSETFROM:+0100
TZOFFSETTO:+0200
TZNAME:CEST
DTSTART:20190331T010000
END:DAYLIGHT
BEGIN:STANDARD
TZOFFSETFROM:+0200
TZOFFSETTO:+0100
TZNAME:CET
DTSTART:20191027T010000
END:STANDARD
BEGIN:DAYLIGHT
TZOFFSETFROM:+0100
TZOFFSETTO:+0200
TZNAME:CEST
DTSTART:20200329T010000
END:DAYLIGHT
BEGIN:STANDARD
TZOFFSETFROM:+0200
TZOFFSETTO:+0100
TZNAME:CET
DTSTART:20201025T010000
END:STANDARD
END:VTIMEZONE
BEGIN:VEVENT
DTSTART;VALUE=DATE:20191121
DTEND;VALUE=DATE:20191123
DTSTAMP:20260420T081245
CREATED:20190211T173242Z
LAST-MODIFIED:20190211T173242Z
UID:3477-1574294400-1574467199@designtheorie.net
SUMMARY:Productized Conference 2019
DESCRIPTION:Productized Conference 2019 is THE PRODUCT THINKING CONFERENCE in Lisbon gathering thought-leaders on Product Thinking\, Product Management\, and User Experience pros on November 21-22.\n\n \n \n\n\n\n\n\n\nAbout PRODUCTIZED CONFERENCE 2019 \nWe know that great products are hard to build\, and just as difficult to manage. How can you improve your methods to make your processes easier and more efficient? For the fifth year in a row\, we are organizing Productized Conference\, where we hope to find the answers to this and other questions\, with the goal of building better products. \nDuring 2 full days of workshops and talks in English\, product related professionals will be able to discuss their perspectives and share insights on how to build great products together with the leading minds in Product Thinking\, Product Management\, Product Design and Product Experience.
URL:https://designtheorie.net/events/productized-conference-2019/
LOCATION:Auditório Domingues de Azevedo\, Avenida Defensores de Chaves\, 85B\, Lisbon\, 1000-121\, Portugal
CATEGORIES:Konferenz
ATTACH;FMTTYPE=image/jpeg:https://designtheorie.net/wp-content/uploads/2017/04/dth-designtheorie_konferenz_1050x700px.jpg
END:VEVENT
BEGIN:VEVENT
DTSTART;VALUE=DATE:20191122
DTEND;VALUE=DATE:20191123
DTSTAMP:20260420T081245
CREATED:20190429T190804Z
LAST-MODIFIED:20190711T092818Z
UID:3653-1574380800-1574467199@designtheorie.net
SUMMARY:FURE Design Conference
DESCRIPTION:Am 22.11.2019 findet die »FURE Design Conference« an der Münster School of Design statt. \n \nWelche neuen Rollen kann Print in Zeiten der Digitalisierung einnehmen? Welche Ideen und Möglichkeiten gibt es beim digitalen Lesen? Wie verändert sich dadurch unser Leseverhalten? Wie kann sich das Lesen gegen andere kulturelle Techniken wie das Spielen\, das Zuhören oder das Zuschauen durchsetzen? Die FURE schafft Raum für Statements\, Visionen und Positionen von Designerinnen und Designern sowie dem Designnachwuchs. \nSPEAKER: \n\nRayan Abdullah\nPhilippe Großmann\nRosalie Heinen\nArthur Jakobs\nBoris Kochan\nSaskia Kraft\nAlbert-Jan Pool\nMalin Schulz\nBjörn Schumacher\nLeonie Schäffer\nHenning Skibbe\nRoland Stieger\nFrances Uckermann
URL:https://designtheorie.net/events/fure-design-conference/
LOCATION:Münster School of Design\, Leonardo-Campus 6\, 48149 Münster\, Deutschland
CATEGORIES:Konferenz
ATTACH;FMTTYPE=image/jpeg:https://designtheorie.net/wp-content/uploads/2017/04/dth-designtheorie_konferenz_1050x700px.jpg
END:VEVENT
END:VCALENDAR