
BEGIN:VCALENDAR
VERSION:2.0
PRODID:-//Designtheoretische Betrachtungen - ECPv6.15.20//NONSGML v1.0//EN
CALSCALE:GREGORIAN
METHOD:PUBLISH
X-WR-CALNAME:Designtheoretische Betrachtungen
X-ORIGINAL-URL:https://designtheorie.net
X-WR-CALDESC:Veranstaltungen für Designtheoretische Betrachtungen
REFRESH-INTERVAL;VALUE=DURATION:PT1H
X-Robots-Tag:noindex
X-PUBLISHED-TTL:PT1H
BEGIN:VTIMEZONE
TZID:Europe/Berlin
BEGIN:DAYLIGHT
TZOFFSETFROM:+0100
TZOFFSETTO:+0200
TZNAME:CEST
DTSTART:20190331T010000
END:DAYLIGHT
BEGIN:STANDARD
TZOFFSETFROM:+0200
TZOFFSETTO:+0100
TZNAME:CET
DTSTART:20191027T010000
END:STANDARD
BEGIN:DAYLIGHT
TZOFFSETFROM:+0100
TZOFFSETTO:+0200
TZNAME:CEST
DTSTART:20200329T010000
END:DAYLIGHT
BEGIN:STANDARD
TZOFFSETFROM:+0200
TZOFFSETTO:+0100
TZNAME:CET
DTSTART:20201025T010000
END:STANDARD
BEGIN:DAYLIGHT
TZOFFSETFROM:+0100
TZOFFSETTO:+0200
TZNAME:CEST
DTSTART:20210328T010000
END:DAYLIGHT
BEGIN:STANDARD
TZOFFSETFROM:+0200
TZOFFSETTO:+0100
TZNAME:CET
DTSTART:20211031T010000
END:STANDARD
END:VTIMEZONE
BEGIN:VEVENT
DTSTART;VALUE=DATE:20200515
DTEND;VALUE=DATE:20200516
DTSTAMP:20260422T082315
CREATED:20191210T122751Z
LAST-MODIFIED:20191210T123443Z
UID:3991-1589500800-1589587199@designtheorie.net
SUMMARY:Designing with Artificial Intelligence Conference
DESCRIPTION:Machine-intelligent systems and processes are no longer simply science fiction. Users are now surrounded by an overwhelming amount of digitally intelligent applications. From Amazon’s per-sonal assistant\, Echo\, to Apple’s deep fusion photo algorithm\, to self-taught spam filters and auto-complete functions right through to the recognition of images\, faces and emotions. From semi-autonomous cars to all the products and information that form the infamous filter bubble\, such as algorithms that filter and curate content for Facebook’s feed. \nMaschinell intelligente Systeme und Vorgänge sind längst kein Sujet der Science Fiction mehr. Uns umgibt als User*innen be-reits eine überwältigende Vielzahl von intelligenten Anwendungen. Angefangen bei persönlichen Sprachassistenten wie Amazons Echo\, Apples Deep Fusion Foto-Algorithmus\, über lernende Spam-Filter und Auto-Complete-Funktionen in Suchmaschinen bis hin zu Bild-\, Gesichts- und Emotionserkennung\, semi-autonom bewegte Fahrzeuge\, sowie inhaltliche Zusammenstellungen aus Produkten und Informationen der uns umgebenden Filter-Bubble im Internet.
URL:https://designtheorie.net/events/designing-with-artificial-intelligence-conference/
LOCATION:Mediadesign Hochschule Berlin\, Franklinstraße 28-29\, Berlin\, 10587\, Deutschland
CATEGORIES:Konferenz
ATTACH;FMTTYPE=image/jpeg:https://designtheorie.net/wp-content/uploads/2017/04/dth-designtheorie_konferenz_1050x700px.jpg
END:VEVENT
BEGIN:VEVENT
DTSTART;VALUE=DATE:20200529
DTEND;VALUE=DATE:20200530
DTSTAMP:20260422T082315
CREATED:20191209T091405Z
LAST-MODIFIED:20191209T091405Z
UID:3983-1590710400-1590796799@designtheorie.net
SUMMARY:CXI Brand talks 2020
DESCRIPTION:Am 29. Mai 2020 stellen bei der größten europäischen Corporate- und Brand-Identity-Konferenz wieder ausgewählte Agenturen und Unternehmen gemeinsam ihre Branding-Projekte vor\, stellen Lösungswege vor und bieten wertvolle Einsichten! \nDie Sprecherinnen und Sprecher werden im Februar 2020 bekanntgegeben.
URL:https://designtheorie.net/events/cxi-brand-talks-2020/
LOCATION:Ring­lok­schup­pen Bie­le­feld\, Stadt­hei­der Str. 11\, Bie­le­feld\, 33609\, Deutschland
ATTACH;FMTTYPE=image/jpeg:https://designtheorie.net/wp-content/uploads/2017/04/dth-designtheorie_konferenz_1050x700px.jpg
ORGANIZER;CN="FH Bielefeld":MAILTO:info@cxi-konferenz.org
END:VEVENT
END:VCALENDAR