
BEGIN:VCALENDAR
VERSION:2.0
PRODID:-//Designtheoretische Betrachtungen - ECPv6.15.20//NONSGML v1.0//EN
CALSCALE:GREGORIAN
METHOD:PUBLISH
X-WR-CALNAME:Designtheoretische Betrachtungen
X-ORIGINAL-URL:https://designtheorie.net
X-WR-CALDESC:Veranstaltungen für Designtheoretische Betrachtungen
REFRESH-INTERVAL;VALUE=DURATION:PT1H
X-Robots-Tag:noindex
X-PUBLISHED-TTL:PT1H
BEGIN:VTIMEZONE
TZID:Europe/Berlin
BEGIN:DAYLIGHT
TZOFFSETFROM:+0100
TZOFFSETTO:+0200
TZNAME:CEST
DTSTART:20190331T010000
END:DAYLIGHT
BEGIN:STANDARD
TZOFFSETFROM:+0200
TZOFFSETTO:+0100
TZNAME:CET
DTSTART:20191027T010000
END:STANDARD
BEGIN:DAYLIGHT
TZOFFSETFROM:+0100
TZOFFSETTO:+0200
TZNAME:CEST
DTSTART:20200329T010000
END:DAYLIGHT
BEGIN:STANDARD
TZOFFSETFROM:+0200
TZOFFSETTO:+0100
TZNAME:CET
DTSTART:20201025T010000
END:STANDARD
BEGIN:DAYLIGHT
TZOFFSETFROM:+0100
TZOFFSETTO:+0200
TZNAME:CEST
DTSTART:20210328T010000
END:DAYLIGHT
BEGIN:STANDARD
TZOFFSETFROM:+0200
TZOFFSETTO:+0100
TZNAME:CET
DTSTART:20211031T010000
END:STANDARD
END:VTIMEZONE
BEGIN:VEVENT
DTSTART;VALUE=DATE:20200704
DTEND;VALUE=DATE:20200705
DTSTAMP:20260422T040107
CREATED:20200505T093650Z
LAST-MODIFIED:20250531T192931Z
UID:4232-1593820800-1593907199@designtheorie.net
SUMMARY:Kolloquium »Design Promoviert«
DESCRIPTION:23. Kolloquium »Design Promoviert« als Online-Format\n \nDas dreiundzwanzigste Kolloquium »Design Promoviert« wird am 04. Juli 2020 als Online-Format in Kooperation mit der Köln International School of Design der TH Köln stattfinden. Die Teilnahme ist kostenlos. \nDas Kolloquium ist eine Veranstaltung für junge Designforschende\, um ihre Arbeiten vorzustellen und diskutieren zu lassen. Es bietet Promovierenden im Design eine Gelegenheit\, ihr Forschungsthema unter Gleichgesinnten zur Diskussion zu stellen. Erfahrene Designforscher*innen werden eingeladen\, uns mit hilfreichen Kommentaren zur Seite zu stehen. Vorträge zu erfolgreich abgeschlossenen Promotionen im Designbereich sollen die Veranstaltung abrunden.
URL:https://designtheorie.net/events/kolloquium-design-promoviert/
LOCATION:Online
CATEGORIES:Kolloquium
ATTACH;FMTTYPE=image/jpeg:https://designtheorie.net/wp-content/uploads/2018/07/dth-designtheorie_kolloquium_1050x700px.jpg
END:VEVENT
BEGIN:VEVENT
DTSTART;VALUE=DATE:20200707
DTEND;VALUE=DATE:20200712
DTSTAMP:20260422T040107
CREATED:20200112T202545Z
LAST-MODIFIED:20210204T081924Z
UID:4020-1594080000-1594511999@designtheorie.net
SUMMARY:DIS2020 Conference
DESCRIPTION:The ACM conference on Designing Interactive Systems (DIS) is the premier\, international arena where designers\, artists\, psychologists\, user experience researchers\, systems engineers and many more come together to debate and shape the future of interactive systems design and practice.  \nThe theme for DIS 2020 is “More than Human-Centred Design”. The aim of the theme is to rethink the research and contributions we make in design and HCI\, by investigating non-humanist or posthumanist alternatives. These approaches displace the human at the centre of thought and action with humans and non-humans bound together materially\, ethically\, and existentially. The theme is intended to encourage contributions toward new methodological or theoretical approaches that build on\, and extend\, existing research in order to go beyond human-centred design towards more complex understandings of our future coexistence with other kinds of materials and intelligences that blur the boundaries between humans\, non-humans\, and technology. \nDIS 2020 is an interdisciplinary conference\, encompassing all issues related to the design and deployment of interactive systems. We encourage submissions from a broad range of researchers and practitioners within the field of interactive systems design that address issues of design theory\, methods\, critical perspectives\, experiences\, artifacts\, technologies\, diverse application domains\, and design for societal\, cultural\, economic\, environmental\, or political change.
URL:https://designtheorie.net/events/dis2020-conference/
CATEGORIES:Konferenz
ATTACH;FMTTYPE=image/jpeg:https://designtheorie.net/wp-content/uploads/2017/04/dth-designtheorie_konferenz_1050x700px.jpg
END:VEVENT
END:VCALENDAR