
BEGIN:VCALENDAR
VERSION:2.0
PRODID:-//Designtheoretische Betrachtungen - ECPv6.15.20//NONSGML v1.0//EN
CALSCALE:GREGORIAN
METHOD:PUBLISH
X-WR-CALNAME:Designtheoretische Betrachtungen
X-ORIGINAL-URL:https://designtheorie.net
X-WR-CALDESC:Veranstaltungen für Designtheoretische Betrachtungen
REFRESH-INTERVAL;VALUE=DURATION:PT1H
X-Robots-Tag:noindex
X-PUBLISHED-TTL:PT1H
BEGIN:VTIMEZONE
TZID:Europe/Berlin
BEGIN:DAYLIGHT
TZOFFSETFROM:+0100
TZOFFSETTO:+0200
TZNAME:CEST
DTSTART:20190331T010000
END:DAYLIGHT
BEGIN:STANDARD
TZOFFSETFROM:+0200
TZOFFSETTO:+0100
TZNAME:CET
DTSTART:20191027T010000
END:STANDARD
BEGIN:DAYLIGHT
TZOFFSETFROM:+0100
TZOFFSETTO:+0200
TZNAME:CEST
DTSTART:20200329T010000
END:DAYLIGHT
BEGIN:STANDARD
TZOFFSETFROM:+0200
TZOFFSETTO:+0100
TZNAME:CET
DTSTART:20201025T010000
END:STANDARD
BEGIN:DAYLIGHT
TZOFFSETFROM:+0100
TZOFFSETTO:+0200
TZNAME:CEST
DTSTART:20210328T010000
END:DAYLIGHT
BEGIN:STANDARD
TZOFFSETFROM:+0200
TZOFFSETTO:+0100
TZNAME:CET
DTSTART:20211031T010000
END:STANDARD
END:VTIMEZONE
BEGIN:VEVENT
DTSTART;VALUE=DATE:20200922
DTEND;VALUE=DATE:20200927
DTSTAMP:20260422T004339
CREATED:20200215T183713Z
LAST-MODIFIED:20210204T081924Z
UID:4059-1600732800-1601164799@designtheorie.net
SUMMARY:DGS-Kongress 2020 »Transformationen – Zeichen und ihre Objekte im Wandel«
DESCRIPTION:Der 16. Internationaler Kongress 2020 der Deutschen Gesellschaft für Semiotik (DGS) e.V. „Transformationen: Zeichen und ihre Objekte im Wandel“ findet vom 22. bis 26.September 2020 in Chemnitz statt. \nAlle Fundamente des Zeichenprozesses sind stetig im Wandel begriffen. Die letzten Dekaden haben zudem in verschiedenen Bereichen besondere Veränderungen und Herausforderungen gezeitigt. Die Semiotik sieht sich der Aufgabe gegenüber\, diesen Herausforderungen theoretisch\, methodisch und darüber hinaus anwendungsbezogen zu begegnen. \nDer Kongress „Transformationen – Zeichen und ihre Objekte im Wandel“ stellt die zeitlichen Veränderungen von Zeichen und der Weisen ihrer Bezugnahme in den Mittelpunkt. Das semiotische Potential des Transformationsbegriffes bildet den Ausgangspunkt dafür\, die Reflexion und Beschreibung von Semioseprozessen auszuloten\, und zwar insbesondere auch im Hinblick auf deren unterschiedliche Medien und Modalitäten. \nDas thematische Spektrum der Konferenz reicht dabei von klassischen zeichentheoretischen Konzepten wie z.B. Wahrheit und Referenz in einem als „postfaktisch“ deklarierten Zeitalter des Umbruchs bis hin zu Herausforderungen des technologischen Wandels für eine mögliche Methodentransformation der Semiotik als Einzeldisziplin und als interdisziplinäres Forschungsfeld. \nDer Kongressstandort Chemnitz\, die ehemalige Karl-Marx-Stadt\, ist selbst ein unter vielen Aspekten verkörperter Transformationsprozess\, welcher nicht zuletzt auch in einer architektonisch vielschichtigen und räumlich begehbaren Palimpseststruktur erfahrbar wird.
URL:https://designtheorie.net/events/dgs-kongress-2020-transformationen-zeichen-und-ihre-objekte-im-wandel/
LOCATION:TU Chemnitz\, Deutschland
CATEGORIES:Kongress
ATTACH;FMTTYPE=image/jpeg:https://designtheorie.net/wp-content/uploads/2017/07/dth-designtheorie_kongress_1050x700px.jpg
END:VEVENT
END:VCALENDAR