
BEGIN:VCALENDAR
VERSION:2.0
PRODID:-//Designtheoretische Betrachtungen - ECPv6.15.20//NONSGML v1.0//EN
CALSCALE:GREGORIAN
METHOD:PUBLISH
X-WR-CALNAME:Designtheoretische Betrachtungen
X-ORIGINAL-URL:https://designtheorie.net
X-WR-CALDESC:Veranstaltungen für Designtheoretische Betrachtungen
REFRESH-INTERVAL;VALUE=DURATION:PT1H
X-Robots-Tag:noindex
X-PUBLISHED-TTL:PT1H
BEGIN:VTIMEZONE
TZID:Europe/Berlin
BEGIN:DAYLIGHT
TZOFFSETFROM:+0100
TZOFFSETTO:+0200
TZNAME:CEST
DTSTART:20200329T010000
END:DAYLIGHT
BEGIN:STANDARD
TZOFFSETFROM:+0200
TZOFFSETTO:+0100
TZNAME:CET
DTSTART:20201025T010000
END:STANDARD
BEGIN:DAYLIGHT
TZOFFSETFROM:+0100
TZOFFSETTO:+0200
TZNAME:CEST
DTSTART:20210328T010000
END:DAYLIGHT
BEGIN:STANDARD
TZOFFSETFROM:+0200
TZOFFSETTO:+0100
TZNAME:CET
DTSTART:20211031T010000
END:STANDARD
BEGIN:DAYLIGHT
TZOFFSETFROM:+0100
TZOFFSETTO:+0200
TZNAME:CEST
DTSTART:20220327T010000
END:DAYLIGHT
BEGIN:STANDARD
TZOFFSETFROM:+0200
TZOFFSETTO:+0100
TZNAME:CET
DTSTART:20221030T010000
END:STANDARD
END:VTIMEZONE
BEGIN:VEVENT
DTSTART;VALUE=DATE:20211118
DTEND;VALUE=DATE:20211121
DTSTAMP:20260421T134006
CREATED:20210204T082750Z
LAST-MODIFIED:20210204T082750Z
UID:4477-1637193600-1637452799@designtheorie.net
SUMMARY:ATTENDING [TO] FUTURES
DESCRIPTION:The design conference ATTENDING [TO] FUTURES will take place at Köln International School of Design of TH Köln (Cologne\, Germany) on 18-20 November 2021\, but will be transformed into an online event\, if regulations with regard to the Covid-19 pandemic prohibit physical large-scale events. \nA conference for design practitioners\, researchers\, educators\, students\, scholars\, and activists\, who engage in a political reprogramming of design! \nAcknowledging the ways in which design (as practices\, forms of knowledge\, and sets of objects) is accountable for social and environmental injustice\, ATTENDING [TO] FUTURES is a platform for critical perspectives that scrutinize unchallenged disciplinary norms and designerly ways of knowing\, being\, doing\, and imagining in design education\, research\, and practice. \nThree panels will frame practical and theoretical positions and projects that critically examine the socio-political and ecological consequences of dominant ways of knowing\, being\, and doing in design and explore the possibilities of subversive practices and alternative teaching-learning scenarios. Lectures\, workshops\, urban walks\, live performances\, film screenings\, and discussions invite interdisciplinary exchange among designers\, activists\, researchers\, and educators from the fields of design\, art\, architecture\, cultural studies\, and anthropology. \nThe conference ATTENDING [TO] FUTURES examines the ambivalent role and responsibility of design as world-making at a moment in which the world «is presented in crisis» (Ghosn\, Jazairy). Acknowledging the ways in which design (as practices\, forms of knowledge\, and sets of objects) is accountable for social and environmental injustice\, the conference invites critical perspectives that scrutinize unchallenged disciplinary norms and dominant ways of knowing\, being\, doing\, and imagining in design education\, research\, and practice. Drawing on current de-/anti-colonial\, post-humanist\, queer-feminist and disability discourses\, the conference attempts a political reprogramming of design in order to generate transformative perspectives on design education\, research\, and practice.
URL:https://designtheorie.net/events/attending-to-futures/
CATEGORIES:Konferenz
ATTACH;FMTTYPE=image/jpeg:https://designtheorie.net/wp-content/uploads/2017/04/dth-designtheorie_konferenz_1050x700px.jpg
END:VEVENT
BEGIN:VEVENT
DTSTART;VALUE=DATE:20211126
DTEND;VALUE=DATE:20211127
DTSTAMP:20260421T134006
CREATED:20210426T081946Z
LAST-MODIFIED:20210426T081946Z
UID:4686-1637884800-1637971199@designtheorie.net
SUMMARY:FURE 2021
DESCRIPTION:Die FURE 2021 – The Future of Reading – findet voraussichtlich am 26.11.2021 statt. Details folgen.
URL:https://designtheorie.net/events/fure-2021/
CATEGORIES:Konferenz
END:VEVENT
END:VCALENDAR