
BEGIN:VCALENDAR
VERSION:2.0
PRODID:-//Designtheoretische Betrachtungen - ECPv6.15.20//NONSGML v1.0//EN
CALSCALE:GREGORIAN
METHOD:PUBLISH
X-ORIGINAL-URL:https://designtheorie.net
X-WR-CALDESC:Veranstaltungen für Designtheoretische Betrachtungen
REFRESH-INTERVAL;VALUE=DURATION:PT1H
X-Robots-Tag:noindex
X-PUBLISHED-TTL:PT1H
BEGIN:VTIMEZONE
TZID:Europe/Berlin
BEGIN:DAYLIGHT
TZOFFSETFROM:+0100
TZOFFSETTO:+0200
TZNAME:CEST
DTSTART:20210328T010000
END:DAYLIGHT
BEGIN:STANDARD
TZOFFSETFROM:+0200
TZOFFSETTO:+0100
TZNAME:CET
DTSTART:20211031T010000
END:STANDARD
BEGIN:DAYLIGHT
TZOFFSETFROM:+0100
TZOFFSETTO:+0200
TZNAME:CEST
DTSTART:20220327T010000
END:DAYLIGHT
BEGIN:STANDARD
TZOFFSETFROM:+0200
TZOFFSETTO:+0100
TZNAME:CET
DTSTART:20221030T010000
END:STANDARD
BEGIN:DAYLIGHT
TZOFFSETFROM:+0100
TZOFFSETTO:+0200
TZNAME:CEST
DTSTART:20230326T010000
END:DAYLIGHT
BEGIN:STANDARD
TZOFFSETFROM:+0200
TZOFFSETTO:+0100
TZNAME:CET
DTSTART:20231029T010000
END:STANDARD
END:VTIMEZONE
BEGIN:VEVENT
DTSTART;TZID=Europe/Berlin:20220716T100000
DTEND;TZID=Europe/Berlin:20220717T180000
DTSTAMP:20260421T200225
CREATED:20220607T082216Z
LAST-MODIFIED:20220607T082919Z
UID:4866-1657965600-1658080800@designtheorie.net
SUMMARY:Jahresausstellung Burg Giebichenstein 2022
DESCRIPTION:Die Burg Giebichenstein Kunsthochschule Halle lädt am 16. und 17. Juli 2022 zum Besuch der diesjährigen Jahresausstellung ein. Eröffnung ist am Freitag\, 15. Juli um 18 Uhr. \nIn den zu Ausstellungsräumen verwandelten Ateliers\, Werkstätten und Seminarräumen der Hochschule und an anderen Orten in Halle zeigen Studierende am Samstag\, 16. Juli\, und Sonntag\, 17. Juli\, zwischen 10 und 18 Uhr Arbeitsergebnisse aus den vergangenen zwei Semestern und geben Einblicke in die vielfältigen Schaffensprozesse. Auch aktuelle Diplomarbeiten aus dem Fachbereich Kunst sowie die Bachelor- und Masterarbeiten aus dem Fachbereich Design werden zu sehen sein.
URL:https://designtheorie.net/events/jahresausstellung-burg-giebichenstein-2022/
LOCATION:Burg Giebichenstein Kunsthochschule Halle\, Neuwerk 7\, 06108 Halle (Saale)\, Deutschland
CATEGORIES:Design vor Ort
ATTACH;FMTTYPE=image/jpeg:https://designtheorie.net/wp-content/uploads/2017/06/dth-designtheorie_design-vor_ort_1050x700px.jpg
END:VEVENT
BEGIN:VEVENT
DTSTART;VALUE=DATE:20220723
DTEND;VALUE=DATE:20220725
DTSTAMP:20260421T200225
CREATED:20220704T100527Z
LAST-MODIFIED:20220704T103022Z
UID:4875-1658534400-1658707199@designtheorie.net
SUMMARY:Rundgang – Tage der offenen Tür der UdK Berlin 2022
DESCRIPTION:Er ist eine feste Größe im Berliner Kultursommer: der Rundgang der Universität der Künste Berlin. Jedes Jahr öffnet die größte künstlerische Hochschule Deutschlands zum Abschluss des akademischen Jahres Ihre Werkstätten\, Ateliers\, Studios und Probenräume ihrer vier Fakultäten Bildende Kunst\, Gestaltung\, Musik und Darstellende Kunst\, des Hochschulübergreifenden Zentrums Tanz\, des Jazz-Instituts Berlin und des Berlin Career College und gibt der interessierten Öffentlichkeit die Möglichkeit\, die Künstler*innen der Hochschule und ihre Arbeiten kennen zu lernen und bietet Studieninteressierten Beratungsangebote an. \nDer Rundgang 2022 findet vom 23.–24. Juli statt. Eine Anmeldung ist nicht erforderlich. \nHier ist der Link zum Programm.
URL:https://designtheorie.net/events/rundgang-tage-der-offenen-tuer-der-udk-berlin-2022/
CATEGORIES:Design vor Ort
ATTACH;FMTTYPE=image/jpeg:https://designtheorie.net/wp-content/uploads/2017/06/dth-designtheorie_design-vor_ort_1050x700px.jpg
END:VEVENT
END:VCALENDAR